BEGIN:VCALENDAR
VERSION:2.0
PRODID:-//Saskatchewan School Boards Association - ECPv6.2.8.2//NONSGML v1.0//EN
CALSCALE:GREGORIAN
METHOD:PUBLISH
X-WR-CALNAME:Saskatchewan School Boards Association
X-ORIGINAL-URL:https://saskschoolboards.ca
X-WR-CALDESC:Events for Saskatchewan School Boards Association
REFRESH-INTERVAL;VALUE=DURATION:PT1H
X-Robots-Tag:noindex
X-PUBLISHED-TTL:PT1H
BEGIN:VTIMEZONE
TZID:America/Regina
BEGIN:STANDARD
TZOFFSETFROM:-0600
TZOFFSETTO:-0600
TZNAME:CST
DTSTART:20260101T000000
END:STANDARD
END:VTIMEZONE
BEGIN:VEVENT
DTSTART;VALUE=DATE:20261115
DTEND;VALUE=DATE:20261118
DTSTAMP:20260422T160821
CREATED:20251030T211710Z
LAST-MODIFIED:20251030T211710Z
UID:7710-1794700800-1794959999@saskschoolboards.ca
SUMMARY:SSBA Fall Assembly
DESCRIPTION:
URL:https://saskschoolboards.ca/event/ssba-fall-assembly/
END:VEVENT
BEGIN:VEVENT
DTSTART;TZID=America/Regina:20261115T110000
DTEND;TZID=America/Regina:20261115T120000
DTSTAMP:20260422T160821
CREATED:20251030T211832Z
LAST-MODIFIED:20251030T211832Z
UID:7712-1794740400-1794744000@saskschoolboards.ca
SUMMARY:Executive Meeting
DESCRIPTION:
URL:https://saskschoolboards.ca/event/executive-meeting-24/
LOCATION:Delta Regina
END:VEVENT
BEGIN:VEVENT
DTSTART;TZID=America/Regina:20261115T130000
DTEND;TZID=America/Regina:20261115T160000
DTSTAMP:20260422T160821
CREATED:20251030T211911Z
LAST-MODIFIED:20251030T211911Z
UID:7714-1794747600-1794758400@saskschoolboards.ca
SUMMARY:Board Chairs Council
DESCRIPTION:
URL:https://saskschoolboards.ca/event/board-chairs-council-8/
LOCATION:Delta Regina
END:VEVENT
BEGIN:VEVENT
DTSTART;VALUE=DATE:20261118
DTEND;VALUE=DATE:20261120
DTSTAMP:20260422T160821
CREATED:20251030T211951Z
LAST-MODIFIED:20251030T211951Z
UID:7716-1794960000-1795132799@saskschoolboards.ca
SUMMARY:SARM Midterm Convention
DESCRIPTION:
URL:https://saskschoolboards.ca/event/sarm-midterm-convention-2/
LOCATION:TCU Place Saskatoon
END:VEVENT
END:VCALENDAR