BEGIN:VCALENDAR
VERSION:2.0
PRODID:-//Saskatchewan School Boards Association - ECPv6.2.8.2//NONSGML v1.0//EN
CALSCALE:GREGORIAN
METHOD:PUBLISH
X-WR-CALNAME:Saskatchewan School Boards Association
X-ORIGINAL-URL:https://saskschoolboards.ca
X-WR-CALDESC:Events for Saskatchewan School Boards Association
REFRESH-INTERVAL;VALUE=DURATION:PT1H
X-Robots-Tag:noindex
X-PUBLISHED-TTL:PT1H
BEGIN:VTIMEZONE
TZID:America/Regina
BEGIN:STANDARD
TZOFFSETFROM:-0600
TZOFFSETTO:-0600
TZNAME:CST
DTSTART:20260101T000000
END:STANDARD
END:VTIMEZONE
BEGIN:VEVENT
DTSTART;TZID=America/Regina:20261019T083000
DTEND;TZID=America/Regina:20261019T093000
DTSTAMP:20260422T145823
CREATED:20251030T211436Z
LAST-MODIFIED:20251030T211436Z
UID:7702-1792398600-1792402200@saskschoolboards.ca
SUMMARY:Board Chairs Council (virtual)
DESCRIPTION:
URL:https://saskschoolboards.ca/event/board-chairs-council-virtual-5/
END:VEVENT
BEGIN:VEVENT
DTSTART;VALUE=DATE:20261022
DTEND;VALUE=DATE:20261025
DTSTAMP:20260422T145823
CREATED:20251030T211612Z
LAST-MODIFIED:20251030T211612Z
UID:7706-1792627200-1792886399@saskschoolboards.ca
SUMMARY:STF Councillor Conference
DESCRIPTION:
URL:https://saskschoolboards.ca/event/stf-councillor-conference-3/
END:VEVENT
BEGIN:VEVENT
DTSTART;VALUE=DATE:20261023
DTEND;VALUE=DATE:20261026
DTSTAMP:20260422T145823
CREATED:20251030T211536Z
LAST-MODIFIED:20251030T211536Z
UID:7704-1792713600-1792972799@saskschoolboards.ca
SUMMARY:SCSBA AGM & Convention
DESCRIPTION:
URL:https://saskschoolboards.ca/event/scsba-agm-convention/
LOCATION:Saskatoon
END:VEVENT
END:VCALENDAR