BEGIN:VCALENDAR
VERSION:2.0
PRODID:-//Saskatchewan School Boards Association - ECPv6.2.8.2//NONSGML v1.0//EN
CALSCALE:GREGORIAN
METHOD:PUBLISH
X-WR-CALNAME:Saskatchewan School Boards Association
X-ORIGINAL-URL:https://saskschoolboards.ca
X-WR-CALDESC:Events for Saskatchewan School Boards Association
REFRESH-INTERVAL;VALUE=DURATION:PT1H
X-Robots-Tag:noindex
X-PUBLISHED-TTL:PT1H
BEGIN:VTIMEZONE
TZID:America/Regina
BEGIN:STANDARD
TZOFFSETFROM:-0600
TZOFFSETTO:-0600
TZNAME:CST
DTSTART:20260101T000000
END:STANDARD
END:VTIMEZONE
BEGIN:VEVENT
DTSTART;TZID=America/Regina:20260326T093000
DTEND;TZID=America/Regina:20260326T160000
DTSTAMP:20260421T170243
CREATED:20260106T150958Z
LAST-MODIFIED:20260106T151121Z
UID:7833-1774517400-1774540800@saskschoolboards.ca
SUMMARY:Loss Prevention Seminar
DESCRIPTION:This seminar will focus on key risk management topics and strategies essential for preventing and mitigating losses in schools.
URL:https://saskschoolboards.ca/event/loss-prevention-seminar/
LOCATION:Saskatoon
END:VEVENT
END:VCALENDAR