BEGIN:VCALENDAR
VERSION:2.0
PRODID:-//Saskatchewan School Boards Association - ECPv6.2.8.2//NONSGML v1.0//EN
CALSCALE:GREGORIAN
METHOD:PUBLISH
X-WR-CALNAME:Saskatchewan School Boards Association
X-ORIGINAL-URL:https://saskschoolboards.ca
X-WR-CALDESC:Events for Saskatchewan School Boards Association
REFRESH-INTERVAL;VALUE=DURATION:PT1H
X-Robots-Tag:noindex
X-PUBLISHED-TTL:PT1H
BEGIN:VTIMEZONE
TZID:America/Regina
BEGIN:STANDARD
TZOFFSETFROM:-0600
TZOFFSETTO:-0600
TZNAME:CST
DTSTART:20260101T000000
END:STANDARD
END:VTIMEZONE
BEGIN:VEVENT
DTSTART;VALUE=DATE:20260309
DTEND;VALUE=DATE:20260312
DTSTAMP:20260421T123103
CREATED:20251016T150609Z
LAST-MODIFIED:20251016T150609Z
UID:7645-1773014400-1773273599@saskschoolboards.ca
SUMMARY:LEADS AGM & Convention
DESCRIPTION:
URL:https://saskschoolboards.ca/event/leads-agm-convention/
END:VEVENT
BEGIN:VEVENT
DTSTART;TZID=America/Regina:20260309T083000
DTEND;TZID=America/Regina:20260309T093000
DTSTAMP:20260421T123103
CREATED:20251016T150059Z
LAST-MODIFIED:20251016T150059Z
UID:7635-1773045000-1773048600@saskschoolboards.ca
SUMMARY:Board Chairs Council (Virtual)
DESCRIPTION:
URL:https://saskschoolboards.ca/event/board-chairs-council-virtual-2/
END:VEVENT
BEGIN:VEVENT
DTSTART;VALUE=DATE:20260310
DTEND;VALUE=DATE:20260313
DTSTAMP:20260421T123103
CREATED:20251016T151025Z
LAST-MODIFIED:20251016T151025Z
UID:7647-1773100800-1773359999@saskschoolboards.ca
SUMMARY:SARM Annual Convention
DESCRIPTION:
URL:https://saskschoolboards.ca/event/sarm-annual-convention-3/
END:VEVENT
END:VCALENDAR