BEGIN:VCALENDAR
VERSION:2.0
PRODID:-//Saskatchewan School Boards Association - ECPv6.2.8.2//NONSGML v1.0//EN
CALSCALE:GREGORIAN
METHOD:PUBLISH
X-WR-CALNAME:Saskatchewan School Boards Association
X-ORIGINAL-URL:https://saskschoolboards.ca
X-WR-CALDESC:Events for Saskatchewan School Boards Association
REFRESH-INTERVAL;VALUE=DURATION:PT1H
X-Robots-Tag:noindex
X-PUBLISHED-TTL:PT1H
BEGIN:VTIMEZONE
TZID:America/Regina
BEGIN:STANDARD
TZOFFSETFROM:-0600
TZOFFSETTO:-0600
TZNAME:CST
DTSTART:20250101T000000
END:STANDARD
END:VTIMEZONE
BEGIN:VEVENT
DTSTART;VALUE=DATE:20251105
DTEND;VALUE=DATE:20251107
DTSTAMP:20260421T155550
CREATED:20221020T185157Z
LAST-MODIFIED:20221020T185157Z
UID:5940-1762300800-1762473599@saskschoolboards.ca
SUMMARY:SARM Midterm Convention
DESCRIPTION:Regina\, SK – REAL Place
URL:https://saskschoolboards.ca/event/sarm-midterm-convention-2025/
END:VEVENT
BEGIN:VEVENT
DTSTART;VALUE=DATE:20251111
DTEND;VALUE=DATE:20251112
DTSTAMP:20260421T155550
CREATED:20220715T150729Z
LAST-MODIFIED:20220715T150729Z
UID:5770-1762819200-1762905599@saskschoolboards.ca
SUMMARY:Remembrance Day
DESCRIPTION:
URL:https://saskschoolboards.ca/event/remembrance-day-2025/
END:VEVENT
BEGIN:VEVENT
DTSTART;VALUE=DATE:20251116
DTEND;VALUE=DATE:20251119
DTSTAMP:20260421T155550
CREATED:20220715T150808Z
LAST-MODIFIED:20251112T204014Z
UID:5772-1763251200-1763510399@saskschoolboards.ca
SUMMARY:2025 Fall General Assembly
DESCRIPTION:Regina\, SK – Delta Marriott Hotel \n\nAgenda\nPipe Ceremony Protocol and Smudging Information\nRegistration\n\nAssembly Materials:\n\nConference Handbook\nBylaws\nPosition Statements\nResolutions\nVision and Strategic Plan\nAdvance Nominations\n\nRelated Links:\n\nElectionBuddy Video\nElectionBuddy Information\nAwards and Scholarships
URL:https://saskschoolboards.ca/event/2025-fall-general-assembly/
END:VEVENT
BEGIN:VEVENT
DTSTART;VALUE=DATE:20251116
DTEND;VALUE=DATE:20251117
DTSTAMP:20260421T155550
CREATED:20220715T150836Z
LAST-MODIFIED:20240527T172257Z
UID:5774-1763251200-1763337599@saskschoolboards.ca
SUMMARY:Board Chairs Council
DESCRIPTION:Regina\, SK – Delta Hotels
URL:https://saskschoolboards.ca/event/board-chairs-council-nov2025/
END:VEVENT
BEGIN:VEVENT
DTSTART;VALUE=DATE:20251116
DTEND;VALUE=DATE:20251117
DTSTAMP:20260421T155550
CREATED:20250314T224750Z
LAST-MODIFIED:20250314T224808Z
UID:7435-1763251200-1763337599@saskschoolboards.ca
SUMMARY:Executive Meeting
DESCRIPTION:
URL:https://saskschoolboards.ca/event/executive-meeting-17/
LOCATION:Delta Regina
END:VEVENT
BEGIN:VEVENT
DTSTART;TZID=America/Regina:20251125T080000
DTEND;TZID=America/Regina:20251130T170000
DTSTAMP:20260421T155550
CREATED:20250314T224844Z
LAST-MODIFIED:20250314T224844Z
UID:7438-1764057600-1764522000@saskschoolboards.ca
SUMMARY:Agribition
DESCRIPTION:
URL:https://saskschoolboards.ca/event/agribition/
LOCATION:Regina
END:VEVENT
END:VCALENDAR