BEGIN:VCALENDAR
VERSION:2.0
PRODID:-//Saskatchewan School Boards Association - ECPv6.2.8.2//NONSGML v1.0//EN
CALSCALE:GREGORIAN
METHOD:PUBLISH
X-WR-CALNAME:Saskatchewan School Boards Association
X-ORIGINAL-URL:https://saskschoolboards.ca
X-WR-CALDESC:Events for Saskatchewan School Boards Association
REFRESH-INTERVAL;VALUE=DURATION:PT1H
X-Robots-Tag:noindex
X-PUBLISHED-TTL:PT1H
BEGIN:VTIMEZONE
TZID:America/Regina
BEGIN:STANDARD
TZOFFSETFROM:-0600
TZOFFSETTO:-0600
TZNAME:CST
DTSTART:20150101T000000
END:STANDARD
END:VTIMEZONE
BEGIN:VEVENT
DTSTART;VALUE=DATE:20150507
DTEND;VALUE=DATE:20150509
DTSTAMP:20260424T102412
CREATED:20150507T060000Z
LAST-MODIFIED:20150818T163005Z
UID:397-1430956800-1431129599@saskschoolboards.ca
SUMMARY:EBP Seminar - Delta Bessborough
DESCRIPTION:
URL:https://saskschoolboards.ca/event/ebp-seminar-delta-bessborough/
END:VEVENT
BEGIN:VEVENT
DTSTART;VALUE=DATE:20150501
DTEND;VALUE=DATE:20150502
DTSTAMP:20260424T102412
CREATED:20150501T060000Z
LAST-MODIFIED:20150818T163005Z
UID:396-1430438400-1430524799@saskschoolboards.ca
SUMMARY:SASBO - Saskatoon Radisson
DESCRIPTION:
URL:https://saskschoolboards.ca/event/sasbo-saskatoon-radisson/
END:VEVENT
BEGIN:VEVENT
DTSTART;VALUE=DATE:20150414
DTEND;VALUE=DATE:20150416
DTSTAMP:20260424T102412
CREATED:20151027T220315Z
LAST-MODIFIED:20151027T220315Z
UID:1222-1428969600-1429142399@saskschoolboards.ca
SUMMARY:Spring General Assembly
DESCRIPTION:
URL:https://saskschoolboards.ca/event/spring-general-assembly/
END:VEVENT
END:VCALENDAR